BEGIN:VCALENDAR
METHOD:PUBLISH
PRODID:-//Weblication CMS
VERSION:2.0
BEGIN:VEVENT
SUMMARY:Ruhewochenende
DTSTART;VALUE=DATE:20261120
DTEND;VALUE=DATE:20261123
DESCRIPTION:OSS nur am 23. November 2026 frei
LOCATION:Elsigbach
UID:https://www.schulefrutigen.ch/schule/veranstaltungen/termine/Ruhewochenende-6.php
URL:https://www.schulefrutigen.ch/schule/veranstaltungen/termine/Ruhewochenende-6.php
END:VEVENT
END:VCALENDAR