BEGIN:VCALENDAR
METHOD:PUBLISH
PRODID:-//Weblication CMS
VERSION:2.0
BEGIN:VEVENT
SUMMARY:Auffahrtsbrücke
DTSTART:20260515T000000
DTEND:20260515T000000
DESCRIPTION:Schulfrei
LOCATION:Elsigbach
UID:https://www.schulefrutigen.ch/schule/veranstaltungen/termine/Auffahrtsbruecke-5.php
URL:https://www.schulefrutigen.ch/schule/veranstaltungen/termine/Auffahrtsbruecke-5.php
END:VEVENT
END:VCALENDAR