BEGIN:VCALENDAR
METHOD:PUBLISH
PRODID:-//Weblication CMS
VERSION:2.0
BEGIN:VEVENT
SUMMARY:Auffahrt
DTSTART:20260514T000000
DTEND:20260514T000000
DESCRIPTION:Schulfrei
LOCATION:Elsigbach
UID:https://www.schulefrutigen.ch/schule/veranstaltungen/termine/Auffahrt-2.php
URL:https://www.schulefrutigen.ch/schule/veranstaltungen/termine/Auffahrt-2.php
END:VEVENT
END:VCALENDAR